BEGIN:VCALENDAR
VERSION:2.0
PRODID:-//UKCRIC Doctoral Skills Network - ECPv4.6.26.1//NONSGML v1.0//EN
CALSCALE:GREGORIAN
METHOD:PUBLISH
X-WR-CALNAME:UKCRIC Doctoral Skills Network
X-ORIGINAL-URL:https://generic.wordpress.soton.ac.uk/ukcricsupportedphdprojects
X-WR-CALDESC:Events for UKCRIC Doctoral Skills Network
BEGIN:VEVENT
DTSTART;TZID=Europe/London:20211215T123000
DTEND;TZID=Europe/London:20211215T133000
DTSTAMP:20260423T115606
CREATED:20211122T125249Z
LAST-MODIFIED:20211122T125249Z
UID:180-1639571400-1639575000@generic.wordpress.soton.ac.uk
SUMMARY:Net Zero Heroes: Christmas Special
DESCRIPTION:ERA partners’ achievements in 2021: \n15 December 2021 online 12.30-13.30\nDuring our Christmas Special ERA Net-Zero Heroes webinar we will be showcasing all the fantastic energy research that has been happening at our partner universities this year. Each partner will give a brief summary of the research\, innovation and commercial developments in green energy that have taken place at their institution during 2021. \nThese webinars are for students\, academics and professional services staff who are interested in finding out about the latest research\, innovation and commercial developments in green energy. They are usually held on the third Wednesday of the Month 12:30-13:30. \nhttps://www.era.ac.uk/NetZero-Heroes \n \n
URL:https://generic.wordpress.soton.ac.uk/ukcricsupportedphdprojects/event/net-zero-heroes-christmas-special/
CATEGORIES:Webinar
ATTACH;FMTTYPE=image/jpeg:https://generic.wordpress.soton.ac.uk/ukcricsupportedphdprojects/wp-content/uploads/sites/347/2021/11/netzh.jpg
END:VEVENT
END:VCALENDAR