BEGIN:VCALENDAR
VERSION:2.0
PRODID:-//SoSporty - ECPv4.6.26.1//NONSGML v1.0//EN
CALSCALE:GREGORIAN
METHOD:PUBLISH
X-WR-CALNAME:SoSporty
X-ORIGINAL-URL:https://generic.wordpress.soton.ac.uk/soparty
X-WR-CALDESC:Events for SoSporty
BEGIN:VEVENT
DTSTART;TZID=Europe/London:20180501T140000
DTEND;TZID=Europe/London:20180501T150000
DTSTAMP:20260422T072106
CREATED:20180501T210348Z
LAST-MODIFIED:20180501T210348Z
UID:769-1525183200-1525186800@generic.wordpress.soton.ac.uk
SUMMARY:Meeting 9
DESCRIPTION:Meeting 9 \nMonday 1/05 \nPresent: \nShahini Rana\, Xianglin Meng\, MengZi Hao\, YiXuan Cheng\, Group Menter \nIt’s the ninth meeting\, all group members have a discussion with our mentor about what parts we have missing. \nFirstly\, Johanna went through our blog and discussed some main points with us. Then\, our decisions as follows: \nLin will change the menu and some tags of the posts\, and beautify the blog\, to make it more acceptable and readable to individuals. \nRana will keep focusing on privacy stuff. \nAlice will produce more technical stuff\, and make a post on database. \nJanice will focus on business module\, and produce a post about our project’ business module to complete our project in business side. Also\, she need to beautify some main pages of our software and post them. \nEverything is on the way\, we nearly get there. \n  \n  \nMeeting 9SoSporty! 
URL:https://generic.wordpress.soton.ac.uk/soparty/event/meeting-9/
LOCATION:32/Cafe
END:VEVENT
END:VCALENDAR