BEGIN:VCALENDAR
VERSION:2.0
PRODID:-//SoSporty - ECPv4.6.26.1//NONSGML v1.0//EN
CALSCALE:GREGORIAN
METHOD:PUBLISH
X-WR-CALNAME:SoSporty
X-ORIGINAL-URL:https://generic.wordpress.soton.ac.uk/soparty
X-WR-CALDESC:Events for SoSporty
BEGIN:VEVENT
DTSTART;TZID=Europe/London:20180316T080000
DTEND;TZID=Europe/London:20180316T170000
DTSTAMP:20260422T223837
CREATED:20180417T145516Z
LAST-MODIFIED:20180417T145516Z
UID:435-1521187200-1521219600@generic.wordpress.soton.ac.uk
SUMMARY:Meeting 6
DESCRIPTION:\n\n\n \nMeeting 6\n\n\nOn     Friday 16/03Present:  Shahini Rana\, Cheng Yixuan\, Meng Xianglin\, Hao Mengzi. \nOur first meeting with our mentor was held from 12 to 1 pm. she listened to our proposal and gave us really useful hints and suggestions. \nas it was the last meeting before Easter break too\, we agreed to stay until 2 pm to decide what to do and split the work\, I collected some suggested questions from the team for building our e-survey. \nwe agreed to dive the work for the whole break everyone should deliver the work by the end of the break with no week by week deadline due to different preferences and holiday commitment. \nthe work was assigned as follow: \n\nRana: *design the e-survey\, *Create an ERGO application and *get the ethics approval for the survey to be distributed. s*earch on how to apply the game theory aspects to our application\, *contribute to the general functions’ design with Lin.\n Lin: *work on the design of the blog interface\, and adjust its directories. *look into the graph they aspects and apply the m to our project. *Finalize the sketch of the detailed functionality of our application\n Janice: *design the logo from before.. *continue to look into related research publications from before.* do the wireframing for the app. *work on the user interface design\, and collaborate with Alice on application requirements.\nAlice: *take care of privacy issues relating to our application. *decide on the operating system used and produce justifications for the choices made with comparisons. *database diagrams. propose aspects of making revenue within commercial aspects. *MLA diagrams.\n\neverything should be posted on the blog.\n\n\n\nMeeting 6SoSporty! 
URL:https://generic.wordpress.soton.ac.uk/soparty/event/meeting-6/
END:VEVENT
END:VCALENDAR