BEGIN:VCALENDAR
VERSION:2.0
PRODID:-//SoSporty - ECPv4.6.26.1//NONSGML v1.0//EN
CALSCALE:GREGORIAN
METHOD:PUBLISH
X-WR-CALNAME:SoSporty
X-ORIGINAL-URL:https://generic.wordpress.soton.ac.uk/soparty
X-WR-CALDESC:Events for SoSporty
BEGIN:VEVENT
DTSTART;TZID=Europe/London:20180305T080000
DTEND;TZID=Europe/London:20180305T170000
DTSTAMP:20260422T223356
CREATED:20180417T144917Z
LAST-MODIFIED:20180417T144917Z
UID:429-1520236800-1520269200@generic.wordpress.soton.ac.uk
SUMMARY:Meeting 2
DESCRIPTION: \nMeeting 2 \n\nMonday 05/03 \nPresent: Shahini Rana\, Cheng Yixuan\, Meng Xianglin\, Hao Mengzi. \nThis is our second meeting. The main content of this meeting is to decide the task and responsibility of every group member and to discuss the main functionalities of our mobile application roughly. We have already decided on the idea of designing an mobile application so the next step is to decide what contents we should include to post on the blog when designing the application. \nConsidering about the common efforts needed to develop a mobile application and according to the suggestions on the lecture slides\, we finally decided an initial work distribution. This distribution is just an initial draft depending on members’ abilities\, and we would add new contents if necessary. The task distribution is shown as below: \n\nRana:\n\n-Project manager -blog creator \n-UML diagrams\, Flow chart (main functions) (then case one for each function) \n-Survey \n  \n\nXianglin\n\n– Blog interface \n– Party tags and themes \n– Storyboards \n  \n\nMengzi\n\n-Database \n-Statechart diagram \n-User requirement \n  \n\nYixuan\n\n-Design logo \n-Related Academic work \n-News items in Media \n-User requirement \nMeeting 2SoSporty! 
URL:https://generic.wordpress.soton.ac.uk/soparty/event/meeting-2/
END:VEVENT
END:VCALENDAR