BEGIN:VCALENDAR
VERSION:2.0
PRODID:-//SoSporty - ECPv4.6.26.1//NONSGML v1.0//EN
CALSCALE:GREGORIAN
METHOD:PUBLISH
X-WR-CALNAME:SoSporty
X-ORIGINAL-URL:https://generic.wordpress.soton.ac.uk/soparty
X-WR-CALDESC:Events for SoSporty
BEGIN:VEVENT
DTSTART;VALUE=DATE:20180223
DTEND;VALUE=DATE:20180224
DTSTAMP:20260423T025133
CREATED:20180417T144617Z
LAST-MODIFIED:20180417T145553Z
UID:425-1519344000-1519430399@generic.wordpress.soton.ac.uk
SUMMARY:Meeting 1
DESCRIPTION:\n\n\n\nMeeting 1\n\n\nOn     Friday 23/02 Present: Shahini Rana\, Cheng Yixuan\, Meng Xianglin\, Hao Mengzi. \nOur first official meeting was held for a brainstorming to come up with one agreed idea\, as we previously agreed for each one to come with an initial idea. We have exchanged ideas and discuss what is available and what is interested. Lin came up with an idea to gather people who would like to share the joy of partying together. \n  \nIt was interesting and something the students would like especially in a city based on two universities with learners from around the globe in a new society. \nBy the end of meeting\, we agreed to call our team: Soparty. As our project name. \nThe first tasks that were assigned to the group members where as follows: \n\n    Rana: request and create the blog and post the welcome post\n    Lin: create a WeChat group to communicate with each other.\n   Rana: create a Google doc to gather our work together\, and for specifying tasks and suggestions.\n    Each one should write a suggested draft of the project brief (approx 200 words).\n    Each one of us should look at the portfolio list of tasks that can be implemented and choose a preferred one.\n    Look at other related applications and how they work\, to make sure that our idea is original or an improved one.\n\n\n\n\n\nMeeting 1SoSporty! 
URL:https://generic.wordpress.soton.ac.uk/soparty/event/meeting-1/
LOCATION:Library
END:VEVENT
END:VCALENDAR