BEGIN:VCALENDAR
VERSION:2.0
PRODID:-// - ECPv4.6.26.1//NONSGML v1.0//EN
CALSCALE:GREGORIAN
METHOD:PUBLISH
X-ORIGINAL-URL:https://generic.wordpress.soton.ac.uk/deccma
X-WR-CALDESC:Events for 
BEGIN:VEVENT
DTSTART;VALUE=DATE:20180618
DTEND;VALUE=DATE:20180622
DTSTAMP:20260424T094742
CREATED:20170721T084826Z
LAST-MODIFIED:20170901T110839Z
UID:915-1529280000-1529625599@generic.wordpress.soton.ac.uk
SUMMARY:Adaptation Futures 2018
DESCRIPTION:\n\n	Related\n
URL:https://generic.wordpress.soton.ac.uk/deccma/event/adaptation-futures-2018/
LOCATION:Cape Town
CATEGORIES:DECCMA participating
END:VEVENT
END:VCALENDAR